BEGIN:VCALENDAR
VERSION:2.0
PRODID:spatie/icalendar-generator
DESCRIPTION:Veranstaltungen von Konzertchor Sång
X-WR-CALDESC:Veranstaltungen von Konzertchor Sång
REFRESH-INTERVAL;VALUE=DURATION:PT1440M
X-PUBLISHED-TTL:PT1440M
BEGIN:VTIMEZONE
TZID:Europe/Berlin
BEGIN:STANDARD
DTSTART:20251026T030000Z
TZOFFSETFROM:+0200
TZOFFSETTO:+0100
END:STANDARD
BEGIN:DAYLIGHT
DTSTART:20260329T020000Z
TZOFFSETFROM:+0100
TZOFFSETTO:+0200
END:DAYLIGHT
BEGIN:STANDARD
DTSTART:20261025T030000Z
TZOFFSETFROM:+0200
TZOFFSETTO:+0100
END:STANDARD
END:VTIMEZONE
BEGIN:VTIMEZONE
TZID:UTC
BEGIN:STANDARD
DTSTART:20250724T140828Z
TZOFFSETFROM:+0000
TZOFFSETTO:+0000
END:STANDARD
END:VTIMEZONE
BEGIN:VEVENT
UID:62-59
DTSTAMP:20260420T140828Z
SUMMARY:Sång-Projekt 19 | Konzert 1 optional
LOCATION:
ORGANIZER;CN=Raimund:MAILTO:raimund-wippermann@web.de
DTSTART;TZID=Europe/Berlin:20260509T150000
DTEND;TZID=Europe/Berlin:20260509T200000
X-ALT-DESC;FMTTYPE=TEXT/HTML:Alle Konzerttermine sind momentan noch Blocker
 ! Endgültige Fixierung der (geplanten 3) Konzerte nach Abschluss der Term
 inabfrage und nach Fixierung der Konzertorte. Die hier genannten Zeiten si
 nd die \"Rahmen-Zeiten\" - bedeutet: Die genauen Uhrzeiten für Ansingepro
 be und Konzert können erst nach Fixierung der Konzertorte benannt werden.
CATEGORIES:General
URL;VALUE=URI:https://konzertchor-sang.de/mc-events/sang-projekt-19-konzert
 -1-optional/
METHOD:PUBLISH
END:VEVENT
END:VCALENDAR